<PAMDataset>
  <SRS dataAxisToSRSAxisMapping="2,1">GEOGCS["WGS 84",DATUM["WGS_1984",SPHEROID["WGS 84",6378137,298.257223563,AUTHORITY["EPSG","7030"]],AUTHORITY["EPSG","6326"]],PRIMEM["Greenwich",0,AUTHORITY["EPSG","8901"]],UNIT["degree",0.0174532925199433,AUTHORITY["EPSG","9122"]],AXIS["Latitude",NORTH],AXIS["Longitude",EAST],AUTHORITY["EPSG","4326"]]</SRS>
  <GeoTransform>  3.7551935164932209e+00,  5.0000000000000001e-03,  0.0000000000000000e+00,  9.2005780292647241e+00,  0.0000000000000000e+00, -5.0000000000000001e-03</GeoTransform>
  <Metadata>
    <MDI key="TIFFTAG_IMAGEDESCRIPTION">HOTVOLC product for volcanic ash cloud column mass load on pixels detected as ash contaminated using the 2-Band method (see Prata, 1989) for the Cameroon region on 2026-05-26 05:00:00</MDI>
  </Metadata>
  <Metadata domain="IMAGE_STRUCTURE">
    <MDI key="INTERLEAVE">PIXEL</MDI>
  </Metadata>
</PAMDataset>
