<PAMDataset>
  <SRS dataAxisToSRSAxisMapping="2,1">GEOGCS["WGS 84",DATUM["WGS_1984",SPHEROID["WGS 84",6378137,298.257223563,AUTHORITY["EPSG","7030"]],AUTHORITY["EPSG","6326"]],PRIMEM["Greenwich",0,AUTHORITY["EPSG","8901"]],UNIT["degree",0.0174532925199433,AUTHORITY["EPSG","9122"]],AXIS["Latitude",NORTH],AXIS["Longitude",EAST],AUTHORITY["EPSG","4326"]]</SRS>
  <GeoTransform>  1.0495074669205390e+01,  5.0000000000000001e-03,  0.0000000000000000e+00,  4.1392496346640293e+01,  0.0000000000000000e+00, -5.0000000000000001e-03</GeoTransform>
  <Metadata>
    <MDI key="TIFFTAG_IMAGEDESCRIPTION">HOTVOLC product for cloud height for the Italie region on 2026-05-07 19:45:00</MDI>
  </Metadata>
  <Metadata domain="IMAGE_STRUCTURE">
    <MDI key="INTERLEAVE">PIXEL</MDI>
  </Metadata>
</PAMDataset>
