<PAMDataset>
  <SRS dataAxisToSRSAxisMapping="2,1">GEOGCS["WGS 84",DATUM["WGS_1984",SPHEROID["WGS 84",6378137,298.257223563,AUTHORITY["EPSG","7030"]],AUTHORITY["EPSG","6326"]],PRIMEM["Greenwich",0,AUTHORITY["EPSG","8901"]],UNIT["degree",0.0174532925199433,AUTHORITY["EPSG","9122"]],AXIS["Latitude",NORTH],AXIS["Longitude",EAST],AUTHORITY["EPSG","4326"]]</SRS>
  <GeoTransform>  3.8369956896303073e+01,  5.0000000000000001e-03,  0.0000000000000000e+00, -6.9533151055649274e+00,  0.0000000000000000e+00, -5.0000000000000001e-03</GeoTransform>
  <Metadata>
    <MDI key="TIFFTAGE_IMAGEDESCRIPTION">HOTVOLC product of SO2 cloud detected using the spectral radiance difference for the Karthala region on 2026-04-30 08:00:00</MDI>
  </Metadata>
  <Metadata domain="IMAGE_STRUCTURE">
    <MDI key="INTERLEAVE">PIXEL</MDI>
  </Metadata>
</PAMDataset>
