<PAMDataset>
  <SRS dataAxisToSRSAxisMapping="2,1">GEOGCS["WGS 84",DATUM["WGS_1984",SPHEROID["WGS 84",6378137,298.257223563,AUTHORITY["EPSG","7030"]],AUTHORITY["EPSG","6326"]],PRIMEM["Greenwich",0,AUTHORITY["EPSG","8901"]],UNIT["degree",0.0174532925199433,AUTHORITY["EPSG","9122"]],AXIS["Latitude",NORTH],AXIS["Longitude",EAST],AUTHORITY["EPSG","4326"]]</SRS>
  <GeoTransform>  3.8369956896303073e+01,  5.0000000000000001e-03,  0.0000000000000000e+00, -6.9533151055649274e+00,  0.0000000000000000e+00, -5.0000000000000001e-03</GeoTransform>
  <Metadata>
    <MDI key="TIFFTAG_IMAGEDESCRIPTION">HOTVOLC product for volcanic ash cloud detection using the 3-Band method (see Guéhenneux et al., 2015) for the Karthala region on 2026-04-28 06:00:00. Show the value of the brightness temperature difference between 10.8 µm and 12.0 µm for each pixel detected as ash contaminated.</MDI>
  </Metadata>
  <Metadata domain="IMAGE_STRUCTURE">
    <MDI key="INTERLEAVE">PIXEL</MDI>
  </Metadata>
</PAMDataset>
