<PAMDataset>
  <SRS dataAxisToSRSAxisMapping="2,1">GEOGCS["WGS 84",DATUM["WGS_1984",SPHEROID["WGS 84",6378137,298.257223563,AUTHORITY["EPSG","7030"]],AUTHORITY["EPSG","6326"]],PRIMEM["Greenwich",0,AUTHORITY["EPSG","8901"]],UNIT["degree",0.0174532925199433,AUTHORITY["EPSG","9122"]],AXIS["Latitude",NORTH],AXIS["Longitude",EAST],AUTHORITY["EPSG","4326"]]</SRS>
  <GeoTransform> -5.0176147688626465e+00,  4.3179643112815420e-02,  0.0000000000000000e+00,  5.1700980383874438e+01,  0.0000000000000000e+00, -4.3179643112815420e-02</GeoTransform>
  <Metadata>
    <MDI key="TIFFTAG_IMAGEDESCRIPTION">HOTVOLC product of 8 level temperature level for atmospheric cloud for the France region on 2026-02-09 04:30:00</MDI>
  </Metadata>
  <Metadata domain="IMAGE_STRUCTURE">
    <MDI key="INTERLEAVE">PIXEL</MDI>
  </Metadata>
</PAMDataset>
