<PAMDataset>
  <SRS dataAxisToSRSAxisMapping="2,1">GEOGCS["WGS 84",DATUM["WGS_1984",SPHEROID["WGS 84",6378137,298.257223563,AUTHORITY["EPSG","7030"]],AUTHORITY["EPSG","6326"]],PRIMEM["Greenwich",0,AUTHORITY["EPSG","8901"]],UNIT["degree",0.0174532925199433,AUTHORITY["EPSG","9122"]],AXIS["Latitude",NORTH],AXIS["Longitude",EAST],AUTHORITY["EPSG","4326"]]</SRS>
  <GeoTransform>  1.0492634304117900e+01,  3.3921809884375209e-02,  0.0000000000000000e+00,  4.1416998430340286e+01,  0.0000000000000000e+00, -3.3921809884375209e-02</GeoTransform>
  <Metadata>
    <MDI key="TIFFTAG_IMAGEDESCRIPTION">HOTVOLC product for volcanic ash cloud detection using the 3-Band method (see Guéhenneux et al., 2015) for the Italie region on 2026-02-01 23:30:00. Show the value of the brightness temperature difference between 10.8 µm and 12.0 µm for each pixel detected as ash contaminated.</MDI>
  </Metadata>
  <Metadata domain="IMAGE_STRUCTURE">
    <MDI key="INTERLEAVE">PIXEL</MDI>
  </Metadata>
</PAMDataset>
