<?xml version="1.0" encoding="utf-8"?>
    <TileMap version="1.0.0" tilemapservice="http://tms.osgeo.org/1.0.0">
      <Title>202402050245_Canaries_ASH5_height.tif</Title>
      <Abstract></Abstract>
      <SRS>EPSG:3857</SRS>
      <BoundingBox minx="-22.50000000000000" miny="23.13188170135551" maxx="-11.00776837339809" maxy="33.17596912968214"/>
      <Origin x="-22.50000000000000" y="23.13188170135551"/>
      <TileFormat width="256" height="256" mime-type="image/png" extension="png"/>
      <TileSets profile="mercator">
        <TileSet href="3" units-per-pixel="19567.87923750000118" order="3"/>
        <TileSet href="4" units-per-pixel="9783.93961875000059" order="4"/>
        <TileSet href="5" units-per-pixel="4891.96980937500030" order="5"/>
        <TileSet href="6" units-per-pixel="2445.98490468750015" order="6"/>
        <TileSet href="7" units-per-pixel="1222.99245234375007" order="7"/>
        <TileSet href="8" units-per-pixel="611.49622617187504" order="8"/>
      </TileSets>
    </TileMap>
    