<PAMDataset>
  <SRS dataAxisToSRSAxisMapping="2,1">GEOGCS["WGS 84",DATUM["WGS_1984",SPHEROID["WGS 84",6378137,298.257223563,AUTHORITY["EPSG","7030"]],AUTHORITY["EPSG","6326"]],PRIMEM["Greenwich",0,AUTHORITY["EPSG","8901"]],UNIT["degree",0.0174532925199433,AUTHORITY["EPSG","9122"]],AXIS["Latitude",NORTH],AXIS["Longitude",EAST],AUTHORITY["EPSG","4326"]]</SRS>
  <GeoTransform> -2.8094188985391334e+01,  1.2481602116266940e-01,  0.0000000000000000e+00,  6.8749644147645256e+01,  0.0000000000000000e+00, -1.2481602116266940e-01</GeoTransform>
  <Metadata>
    <MDI key="TIFFTAG_IMAGEDESCRIPTION">HOTVOLC product for volcanic ash cloud detection using the 2-Band method (see Prata, 1989) for the Islande region on 2021-07-23 17:30:00. Show the value of the brightness temperature difference between 10.8 µm and 12.0 µm for each pixel detected as ash contaminated.</MDI>
  </Metadata>
  <Metadata domain="IMAGE_STRUCTURE">
    <MDI key="INTERLEAVE">PIXEL</MDI>
  </Metadata>
</PAMDataset>
