<PAMDataset>
  <SRS dataAxisToSRSAxisMapping="2,1">GEOGCS["WGS 84",DATUM["WGS_1984",SPHEROID["WGS 84",6378137,298.257223563,AUTHORITY["EPSG","7030"]],AUTHORITY["EPSG","6326"]],PRIMEM["Greenwich",0,AUTHORITY["EPSG","8901"]],UNIT["degree",0.0174532925199433,AUTHORITY["EPSG","9122"]],AXIS["Latitude",NORTH],AXIS["Longitude",EAST],AUTHORITY["EPSG","4326"]]</SRS>
  <GeoTransform> -2.8094188985391334e+01,  1.2481602116266940e-01,  0.0000000000000000e+00,  6.8749644147645256e+01,  0.0000000000000000e+00, -1.2481602116266940e-01</GeoTransform>
  <Metadata>
    <MDI key="TIFFTAG_IMAGEDESCRIPTION">HOTVOLC ASH RGB Composite of the Islande region on 2014-10-07 01:15:00. On this composite image, volcanic ash appears in dark blue and SO2 in turquoise.</MDI>
  </Metadata>
  <Metadata domain="IMAGE_STRUCTURE">
    <MDI key="INTERLEAVE">PIXEL</MDI>
  </Metadata>
  <PAMRasterBand band="1">
    <Description>Red canal of the HOTVOLC ASH RGB Composite: Brightness Temperature @ 10.8µm - Brightness Temperature @ 12 µm</Description>
  </PAMRasterBand>
  <PAMRasterBand band="2">
    <Description>Green canal of the HOTVOLC ASH RGB Composite: Brightness Temperature @ 10.8µm - Brightness Temperature @ 8.7 µm</Description>
  </PAMRasterBand>
  <PAMRasterBand band="3">
    <Description>Blue canal of the HOTVOLC ASH RGB Composite: Brightness Temperature @ 10.8 µm</Description>
  </PAMRasterBand>
  <PAMRasterBand band="4">
    <Description>Alpha canal of the HOTVOLC ASH RGB Composite</Description>
  </PAMRasterBand>
</PAMDataset>
